BEGIN:VCALENDAR
VERSION:2.0
PRODID:-//aboriginalshelters - ECPv6.15.20//NONSGML v1.0//EN
CALSCALE:GREGORIAN
METHOD:PUBLISH
X-ORIGINAL-URL:https://aboriginalshelters.ca
X-WR-CALDESC:Events for aboriginalshelters
REFRESH-INTERVAL;VALUE=DURATION:PT1H
X-Robots-Tag:noindex
X-PUBLISHED-TTL:PT1H
BEGIN:VTIMEZONE
TZID:UTC
BEGIN:STANDARD
TZOFFSETFROM:+0000
TZOFFSETTO:+0000
TZNAME:UTC
DTSTART:20240101T000000
END:STANDARD
END:VTIMEZONE
BEGIN:VEVENT
DTSTART;TZID=UTC:20250810T080000
DTEND;TZID=UTC:20250810T170000
DTSTAMP:20260424T154801
CREATED:20250802T150727Z
LAST-MODIFIED:20250802T150949Z
UID:544-1754812800-1754845200@aboriginalshelters.ca
SUMMARY:🔥 3. Fall Equinox Fire Gathering – Southern Circle
DESCRIPTION:Celebrate the Fall Equinox with a sacred fire\, song\, and community meal. This gathering honours the changing season and the strength of women in our shelters. Bring your drum and a dish to share if you can. \nAll are welcome.
URL:https://aboriginalshelters.ca/event/%f0%9f%94%a5-3-fall-equinox-fire-gathering-southern-circle/
LOCATION:Six Nations Woodland Cultural Centre\, 184 Mohawk Street\, Brantford\, ON\, N3S 2X2\, Canada
ATTACH;FMTTYPE=image/webp:https://aboriginalshelters.ca/wp-content/uploads/2025/07/3.webp
ORGANIZER;CN="Woodland Cultural Centre":MAILTO:info@woodlandculturalcentre.ca
END:VEVENT
BEGIN:VEVENT
DTSTART;TZID=UTC:20250802T080000
DTEND;TZID=UTC:20250802T170000
DTSTAMP:20260424T154801
CREATED:20250801T212515Z
LAST-MODIFIED:20250802T142719Z
UID:531-1754121600-1754154000@aboriginalshelters.ca
SUMMARY:🪶 1. Cultural Healing Circle – Northern Region
DESCRIPTION:Join us for a community-led Healing Circle focused on reconnecting with traditional teachings and shared stories of resilience. Open to shelter staff and community members across the Northern region. \nFacilitated by Elders and Knowledge Keepers.Refreshments and medicines provided.
URL:https://aboriginalshelters.ca/event/test-event/
LOCATION:Six Nations Woodland Cultural Centre\, 184 Mohawk Street\, Brantford\, ON\, N3S 2X2\, Canada
ATTACH;FMTTYPE=image/webp:https://aboriginalshelters.ca/wp-content/uploads/2025/08/ariana-kaminski-vyLvY4l_n0s-unsplash-1-scaled.webp
ORGANIZER;CN="Woodland Cultural Centre":MAILTO:info@woodlandculturalcentre.ca
END:VEVENT
BEGIN:VEVENT
DTSTART;TZID=UTC:20250801T080000
DTEND;TZID=UTC:20250801T170000
DTSTAMP:20260424T154801
CREATED:20250802T150439Z
LAST-MODIFIED:20250802T150606Z
UID:541-1754035200-1754067600@aboriginalshelters.ca
SUMMARY:🔨 2. Trauma-Informed Care Training for Shelter Staff
DESCRIPTION:This full-day training explores trauma-informed practices tailored to Indigenous women’s shelters. Topics include intergenerational trauma\, cultural safety\, and practical approaches to client support. \nFree registration. Certificate of participation provided.
URL:https://aboriginalshelters.ca/event/%f0%9f%94%a8-2-trauma-informed-care-training-for-shelter-staff/
LOCATION:Six Nations Woodland Cultural Centre\, 184 Mohawk Street\, Brantford\, ON\, N3S 2X2\, Canada
ATTACH;FMTTYPE=image/webp:https://aboriginalshelters.ca/wp-content/uploads/2025/07/asoo-girl.webp
ORGANIZER;CN="Woodland Cultural Centre":MAILTO:info@woodlandculturalcentre.ca
END:VEVENT
END:VCALENDAR